BEGIN:VCALENDAR
VERSION:2.0
PRODID:-//WoPCAA - ECPv6.15.3//NONSGML v1.0//EN
CALSCALE:GREGORIAN
METHOD:PUBLISH
X-WR-CALNAME:WoPCAA
X-ORIGINAL-URL:https://wopcaa.org
X-WR-CALDESC:Events for WoPCAA
REFRESH-INTERVAL;VALUE=DURATION:PT1H
X-Robots-Tag:noindex
X-PUBLISHED-TTL:PT1H
BEGIN:VTIMEZONE
TZID:UTC
BEGIN:STANDARD
TZOFFSETFROM:+0000
TZOFFSETTO:+0000
TZNAME:UTC
DTSTART:20230101T000000
END:STANDARD
END:VTIMEZONE
BEGIN:VEVENT
DTSTART;VALUE=DATE:20231124
DTEND;VALUE=DATE:20231125
DTSTAMP:20260424T160951
CREATED:20240220T090944Z
LAST-MODIFIED:20240220T090944Z
UID:599-1700784000-1700870399@wopcaa.org
SUMMARY:COP28 Mashinani
DESCRIPTION:COP Mashinani\, a transformative regional initiative\, takes the principles and objectives of the Conference of Parties (COP) to a localized level\, focusing on grassroots engagement and community-driven solutions. The term “Mashinani” in Swahili translates to “at the grassroots\,” encapsulating the core essence of this movement. Unlike traditional COP meetings\, COP Mashinani seeks to empower local communities and amplify their voices in the discourse on climate change.
URL:https://wopcaa.org/event/cop28-mashinani/
LOCATION:Isinya Town Hall\, Kajiado\, Kenya
CATEGORIES:Climate Action Advocacy
ATTACH;FMTTYPE=image/jpeg:https://wopcaa.org/wp-content/uploads/2024/01/IMG_8923-scaled-e1708420150414.jpeg
END:VEVENT
END:VCALENDAR